BEGIN:VCALENDAR
VERSION:2.0
PRODID:-//wp-events-plugin.com//7.2.3.1//EN
TZID:Europe/Zurich
X-WR-TIMEZONE:Europe/Zurich
BEGIN:VEVENT
UID:54@qkk6.ch
DTSTART;TZID=Europe/Zurich:20181201T000000
DTEND;TZID=Europe/Zurich:20181202T000000
DTSTAMP:20181110T203626Z
URL:https://www.qkk6.ch/events/2018/12/01/design-weihnachtsmarkt-2018/
SUMMARY:Design-Weihnachtsmarkt 2018
DESCRIPTION:Samstag\, 1. Dezember 2018\, 14:00 - 18:00 Uhr\nmit festlichem 
 Apéro&nbsp\; &nbsp\; &nbsp\; &nbsp\; &nbsp\; &nbsp\;&nbsp\;\nSonntag\, 2.
  Dezember 2018\, 11:00 - 16:00 Uhr\nEntdecken sie an unserem Weihnachtsmar
 kt in der Röslischüür Designprodukte von unabhängigen Labels und Klein
 produzenten aus dem Kreis 6. Dazu gibt es Leckereien.\n\nWir freuen uns au
 f einen stimmungsvollen Markt mit gemütlichem Weihnachtsshopping.&nbsp\;\
 n\nAllenspach Susanne\,\n\nBastian Linda\n\nBernegger Beatrix\n\nDesta Mü
 ller Marco\n\nHuber Julia &amp\; Pauli Leonie\n\nJoshi Agnes\n\nKrüsi Mar
 ianne\n\nKuniko Mizuno\n\nLippmann Nadja\n\nPinomaa Leena\n\nReinhard Gabr
 iele\n\nSchläfle Marcel\n\nSchneider Hanna\n\nTschirky Lisa\n\nUbele Lang
  Nathalie\n\nZur Nieden Annette\n\nZiegler Christine\nRöslischüür\, Rö
 slistrasse 9\, 8006 Zürich\n&nbsp\;\n\n&nbsp\; &nbsp\;&nbsp\;\n\n&nbsp\;\
 n\n&nbsp\;\n\n&nbsp\;\n\n&nbsp\;
ATTACH;FMTTYPE=image/jpeg:https://www.qkk6.ch/wp-content/uploads/Flyer-Des
 ign-Weihnachtsmarkt-RZ.jpg
CATEGORIES:Ausstellung
LOCATION:Röslischüür\, Röslistrasse 9\, Zürich\, 8006\, Schweiz
GEO:47.388508;8.541154
X-APPLE-STRUCTURED-LOCATION;VALUE=URI;X-ADDRESS=Röslistrasse 9\, Zürich\,
  8006\, Schweiz;X-APPLE-RADIUS=100;X-TITLE=Röslischüür:geo:47.388508,8.
 541154
END:VEVENT
BEGIN:VTIMEZONE
TZID:Europe/Zurich
X-LIC-LOCATION:Europe/Zurich
BEGIN:STANDARD
DTSTART:20181028T020000
TZOFFSETFROM:+0200
TZOFFSETTO:+0100
TZNAME:CET
END:STANDARD
END:VTIMEZONE
END:VCALENDAR