BEGIN:VCALENDAR
VERSION:2.0
PRODID:-//wp-events-plugin.com//7.2.3.1//EN
TZID:Europe/Zurich
X-WR-TIMEZONE:Europe/Zurich
BEGIN:VEVENT
UID:53@qkk6.ch
DTSTART;TZID=Europe/Zurich:20181119T200000
DTEND;TZID=Europe/Zurich:20181119T211500
DTSTAMP:20181001T101803Z
URL:https://www.qkk6.ch/events/2018/11/19/balladen-im-rigiblick-3/
SUMMARY:Balladen im Rigiblick
DESCRIPTION:Eine Koproduktion von Quartier-Kultur Kreis 6 und Theater Rigib
 lick.\n\nEdward und der Knabe im Moor\n\nAnnette von Droste-Hülshoff und 
 Johannes Brahms\n\nNikola Weisse\, Rezitation\, Benjamin Engeli\, Klavier\
 n\nEintritt Fr. 28.--/23.--/15.—\n\nReservation: 044 361 83 38 oder tick
 ets@theater-rigiblick.ch
CATEGORIES:Konzert,Lesung
LOCATION:Theater Rigiblick\, Germaniastrasse 99\, Zürich\, 8044\, Schweiz
GEO:47.388274;8.553456
X-APPLE-STRUCTURED-LOCATION;VALUE=URI;X-ADDRESS=Germaniastrasse 99\, Züric
 h\, 8044\, Schweiz;X-APPLE-RADIUS=100;X-TITLE=Theater Rigiblick:geo:47.388
 274,8.553456
END:VEVENT
BEGIN:VTIMEZONE
TZID:Europe/Zurich
X-LIC-LOCATION:Europe/Zurich
BEGIN:STANDARD
DTSTART:20181028T020000
TZOFFSETFROM:+0200
TZOFFSETTO:+0100
TZNAME:CET
END:STANDARD
END:VTIMEZONE
END:VCALENDAR