BEGIN:VCALENDAR
VERSION:2.0
PRODID:-//wp-events-plugin.com//7.2.3.1//EN
TZID:Europe/Zurich
X-WR-TIMEZONE:Europe/Zurich
BEGIN:VEVENT
UID:52@qkk6.ch
DTSTART;TZID=Europe/Zurich:20181117T000000
DTEND;TZID=Europe/Zurich:20181118T000000
DTSTAMP:20181110T203851Z
URL:https://www.qkk6.ch/events/2018/11/17/nordlichter-und-musik/
SUMMARY:Nordlichter und Musik
DESCRIPTION:\n\n&nbsp\;\n\n\n„Nordlichter und Musik" \n\nSamstag\, 17.Nov
 ember 2018\, 17:00 - 20:00 Uhr\n&nbsp\; &nbsp\; &nbsp\; &nbsp\; &nbsp\; &n
 bsp\; &nbsp\; &nbsp\; 18:00 Uhr Musik\n&nbsp\; &nbsp\; &nbsp\; &nbsp\; &nb
 sp\; &nbsp\; &nbsp\; &nbsp\; 18:30 Uhr Apéro\nSonntag\, 18. November 2018
 \, 16:00 - 19:00 Uhr\n&nbsp\; &nbsp\; &nbsp\; &nbsp\; &nbsp\; &nbsp\; &nbs
 p\; &nbsp\; &nbsp\;17:00 Uhr Musik\n\nHerzliche Einladung zur Vernissage u
 nd Konzert „Nordlicher und Musik“&nbsp\;\nmit Jörg Sparenborg und Kar
 in Weissberg.\n\nNordlichter sind ein faszinierendes Naturphänomen. Über
  Jahrhunderte hat diese Erscheinung die Menschheit beschäftigt. Was früh
 er die Menschen eher beunruhigt hat\, ist heute zu einem begehrten Reisezi
 el geworden.\nWir nehmen Sie mit auf eine visuelle und musikalische Reise 
 in die Region nördlich des Polarkreises.\nJörg Sparenborg zeigt eine Aus
 wahl von Fotos\, die auf seinen zahlreichen Reisen ins nördliche Norwegen
  entstanden sind. Karin Weissberg wird eine Diashow live mit einer Eigenko
 mposition begleiten.\n\nLassen Sie sich von der Magie der Nordlichter bege
 istern.\nFreier Eintritt\n\nNach dem Konzert sind alle zu einem Apéro ein
 geladen.\n\nIn der Röslischüür\, Röslistrasse 9\, 8006 Zürich\n\n&nbs
 p\;
ATTACH;FMTTYPE=image/jpeg:https://www.qkk6.ch/wp-content/uploads/20180314_
 0753_Norwegen.jpg
CATEGORIES:Ausstellung,Konzert
LOCATION:Röslischüür\, Röslistrasse 9\, Zürich\, 8006\, Schweiz
GEO:47.388508;8.541154
X-APPLE-STRUCTURED-LOCATION;VALUE=URI;X-ADDRESS=Röslistrasse 9\, Zürich\,
  8006\, Schweiz;X-APPLE-RADIUS=100;X-TITLE=Röslischüür:geo:47.388508,8.
 541154
END:VEVENT
BEGIN:VTIMEZONE
TZID:Europe/Zurich
X-LIC-LOCATION:Europe/Zurich
BEGIN:STANDARD
DTSTART:20181028T020000
TZOFFSETFROM:+0200
TZOFFSETTO:+0100
TZNAME:CET
END:STANDARD
END:VTIMEZONE
END:VCALENDAR