BEGIN:VCALENDAR
VERSION:2.0
PRODID:-//wp-events-plugin.com//7.2.3.1//EN
TZID:Europe/Zurich
X-WR-TIMEZONE:Europe/Zurich
BEGIN:VEVENT
UID:48@qkk6.ch
DTSTART;TZID=Europe/Zurich:20181105T200000
DTEND;TZID=Europe/Zurich:20181105T200000
DTSTAMP:20181023T080231Z
URL:https://www.qkk6.ch/events/2018/11/05/nideroest-soehne/
SUMMARY:Nideröst & Söhne
DESCRIPTION:&nbsp\;nideröst&amp\;söhne – zwüsched hüt&amp\;morn\n&nbs
 p\;Während einer kurzen Sendepause haben sich nideröst&amp\;söhne die Z
 eit genommen\, um über ebendiese zu philosophieren. Entstanden ist ein vi
 elseitiges Abendprogramm mit Songs\, die den Zeitgeist kurzzeitig einfange
 n: zwüsched hüt&amp\;morn.\n&nbsp\;Hingehen\, anhören &amp\; die Zeit v
 ergessen...\n&nbsp\;Mathis Kramer-Länger (Kontrabass\, Gitarre\, Stimme)\
 nKaspar Schindler (Piano\, Gitarre\, Stimme)\nAndi Thürig (Saxofon\, Cajo
 n\, Stimme)\n&nbsp\;\nwww.nideroestundsoehne.ch\nEintritt Fr. 28.--/23.--/
 15.—\n\nReservation: 044 361 83 38 oder tickets@theater-rigiblick.ch
ATTACH;FMTTYPE=image/jpeg:https://www.qkk6.ch/wp-content/uploads/nideröst
 söhne.jpg
CATEGORIES:Konzert,Lesung
LOCATION:Theater Rigiblick\, Germaniastrasse 99\, Zürich\, 8044\, Schweiz
GEO:47.388274;8.553456
X-APPLE-STRUCTURED-LOCATION;VALUE=URI;X-ADDRESS=Germaniastrasse 99\, Züric
 h\, 8044\, Schweiz;X-APPLE-RADIUS=100;X-TITLE=Theater Rigiblick:geo:47.388
 274,8.553456
END:VEVENT
BEGIN:VTIMEZONE
TZID:Europe/Zurich
X-LIC-LOCATION:Europe/Zurich
BEGIN:STANDARD
DTSTART:20181028T020000
TZOFFSETFROM:+0200
TZOFFSETTO:+0100
TZNAME:CET
END:STANDARD
END:VTIMEZONE
END:VCALENDAR