BEGIN:VCALENDAR
VERSION:2.0
PRODID:-//wp-events-plugin.com//7.2.3.1//EN
TZID:Europe/Zurich
X-WR-TIMEZONE:Europe/Zurich
BEGIN:VEVENT
UID:51@qkk6.ch
DTSTART;TZID=Europe/Zurich:20181029T200000
DTEND;TZID=Europe/Zurich:20181029T200000
DTSTAMP:20181009T190654Z
URL:https://www.qkk6.ch/events/2018/10/29/mit-gestraeumtem-haar/
SUMMARY:Mit gesträubtem Haar
DESCRIPTION:\n\nFrédéric Chopin und George Sand auf Mallorca\n\nText und 
 Konzept: Ruth Werfel\n\nMit: Thomas Douglas\,\n\nRuth Werfel\,\n\nJoschi K
 ühne\n\nAm Klavier: Martin Kunz\n\nSie ist entzückt von ihm. Er mag sie 
 nicht. Doch dann reisen Frédéric Chopin und George Sand\, der umschwärm
 te Komponist und die skandalumwitterte Romanautorin\, nach Mallorca. Dort 
 erleben sie spanische Grobheiten\, südlichen Zauber\, herbstliche Unbill\
 , Inspiration in Valldemossa. Chopin komponiert\, Sand schreibt. Er wird k
 rank\, Sand seine Pflegerin\, die Abreise überstürzt. Aus den spanischen
  vier Monaten resultiert eine neunjährige Lebensgemeinschaft. Was für ei
 n Paar!\n\nReservation empfohlen! 044 361 80 51 oder tickets@theater-rigib
 lick.ch\n\n\n\n&nbsp\;\n&nbsp\;\n&nbsp\;\n&nbsp\;\n\n\n\nEintrittspreise (
 freie Platzwahl)\nFr. 40.--/35.--\n\n\n&nbsp\;
ATTACH;FMTTYPE=image/jpeg:https://www.qkk6.ch/wp-content/uploads/ruth-Wefe
 l-aa.jpg
CATEGORIES:Konzert
LOCATION:Theater Rigiblick\, Germaniastrasse 99\, Zürich\, 8044\, Schweiz
GEO:47.388274;8.553456
X-APPLE-STRUCTURED-LOCATION;VALUE=URI;X-ADDRESS=Germaniastrasse 99\, Züric
 h\, 8044\, Schweiz;X-APPLE-RADIUS=100;X-TITLE=Theater Rigiblick:geo:47.388
 274,8.553456
END:VEVENT
BEGIN:VTIMEZONE
TZID:Europe/Zurich
X-LIC-LOCATION:Europe/Zurich
BEGIN:STANDARD
DTSTART:20181028T020000
TZOFFSETFROM:+0200
TZOFFSETTO:+0100
TZNAME:CET
END:STANDARD
END:VTIMEZONE
END:VCALENDAR