BEGIN:VCALENDAR
VERSION:2.0
PRODID:-//wp-events-plugin.com//7.2.3.1//EN
TZID:Europe/Zurich
X-WR-TIMEZONE:Europe/Zurich
BEGIN:VEVENT
UID:30@qkk6.ch
DTSTART;TZID=Europe/Zurich:20181028T110000
DTEND;TZID=Europe/Zurich:20181028T121500
DTSTAMP:20180614T073345Z
URL:https://www.qkk6.ch/events/2018/10/28/sagen-und-saegen/
SUMMARY:sagen und sägen
DESCRIPTION:Zürich liest'18&nbsp\;&nbsp\;&nbsp\;&nbsp\; Das Buchfestival i
 n Zürich\, Winterthur und Region\n\nWorte und Holz - eine kunst- und ger
 äuschvolle Begegnung\n\nRose-Marie Uhlmann (Texte)\n\nUrs Schmid (Holzobj
 ekte)\n\nFreier Eintritt\n\nNach der Lesung sind alle zu einem Apéro eing
 eladen.\n\n&nbsp\;
ATTACH;FMTTYPE=image/jpeg:https://www.qkk6.ch/wp-content/uploads/Super­_B
 ild-für-Lesungen-026.jpg
LOCATION:Röslischüür\, Röslistrasse 9\, Zürich\, 8006\, Schweiz
GEO:47.388508;8.541154
X-APPLE-STRUCTURED-LOCATION;VALUE=URI;X-ADDRESS=Röslistrasse 9\, Zürich\,
  8006\, Schweiz;X-APPLE-RADIUS=100;X-TITLE=Röslischüür:geo:47.388508,8.
 541154
END:VEVENT
BEGIN:VTIMEZONE
TZID:Europe/Zurich
X-LIC-LOCATION:Europe/Zurich
BEGIN:STANDARD
DTSTART:20181028T020000
TZOFFSETFROM:+0200
TZOFFSETTO:+0100
TZNAME:CET
END:STANDARD
END:VTIMEZONE
END:VCALENDAR