BEGIN:VCALENDAR
VERSION:2.0
PRODID:-//wp-events-plugin.com//7.2.3.1//EN
TZID:Europe/Zurich
X-WR-TIMEZONE:Europe/Zurich
BEGIN:VEVENT
UID:37@qkk6.ch
DTSTART;TZID=Europe/Zurich:20181027T210000
DTEND;TZID=Europe/Zurich:20181027T223000
DTSTAMP:20180629T094403Z
URL:https://www.qkk6.ch/events/2018/10/27/severin-schwendener-schatten-spi
 el/
SUMMARY:Severin Schwendener: Schatten & Spiel
DESCRIPTION:Zürich liest'18&nbsp\;&nbsp\;&nbsp\;&nbsp\; Das Buchfestival i
 n Zürich\, Winterthur und Region\n\nRöslischüür\, Röslistrasse 9\, 80
 06 Zürich\n\nIm neuesten Schwendener-Krimi geraten Kommissar Hilvert und 
 sein Assistent Jaun in eine schier ausweglose Situation. Der Sprecher Marc
 o Caduff trägt einzelne Passagen vor und unterhält sich mit dem Autor ü
 ber das Buch\, über die Figuren und über Recht und Gerechtigkeit.\n\n«S
 chach &amp\; Matt» ist der zweite Schwendener-Band mit Kommissar Hilvert 
 und seinem Assistenten Jaun. Die Veranstaltung führt in lockerer Atmosph
 äre durch die Geschichte. Der Sprecher Marco Caduff liest einzelne Passag
 en vor und plaudert mit dem Autor über dessen Arbeitsweise und die Figure
 n im Buch.\n\n&nbsp\;\n\nFreier Eintritt\n\nNach der Lesung sind alle zu e
 inem Apéro eingeladen.
ATTACH;FMTTYPE=image/jpeg:https://www.qkk6.ch/wp-content/uploads/Marco-Cad
 uff-2309.jpg
CATEGORIES:Lesung
LOCATION:Röslischüür\, Röslistrasse 9\, Zürich\, 8006\, Schweiz
GEO:47.388508;8.541154
X-APPLE-STRUCTURED-LOCATION;VALUE=URI;X-ADDRESS=Röslistrasse 9\, Zürich\,
  8006\, Schweiz;X-APPLE-RADIUS=100;X-TITLE=Röslischüür:geo:47.388508,8.
 541154
END:VEVENT
BEGIN:VTIMEZONE
TZID:Europe/Zurich
X-LIC-LOCATION:Europe/Zurich
BEGIN:DAYLIGHT
DTSTART:20180325T030000
TZOFFSETFROM:+0100
TZOFFSETTO:+0200
TZNAME:CEST
END:DAYLIGHT
END:VTIMEZONE
END:VCALENDAR