BEGIN:VCALENDAR
VERSION:2.0
PRODID:-//wp-events-plugin.com//7.2.3.1//EN
TZID:Europe/Zurich
X-WR-TIMEZONE:Europe/Zurich
BEGIN:VEVENT
UID:36@qkk6.ch
DTSTART;TZID=Europe/Zurich:20181027T190000
DTEND;TZID=Europe/Zurich:20181027T203000
DTSTAMP:20180629T093948Z
URL:https://www.qkk6.ch/events/2018/10/27/severin-schwendener-schach-matt/
SUMMARY:Severin Schwendener: Schach & Matt
DESCRIPTION:Zürich liest'18&nbsp\;&nbsp\;&nbsp\;&nbsp\; Das Buchfestival i
 n Zürich\, Winterthur und Region\n\nRöslischüür\, Röslistrasse 9\, 80
 06 Zürich\n\n«Schach &amp\; Matt» ist der zweite Schwendener-Band mit K
 ommissar Hilvert und seinem Assistenten Jaun. Die Veranstaltung führt in 
 lockerer Atmosphäre durch die Geschichte. Der Sprecher Marco Caduff liest
  einzelne Passagen vor und plaudert mit dem Autor über dessen Arbeitsweis
 e und die Figuren im Buch.\n\n&nbsp\;\n\nFreier Eintritt\n\nNach der Lesun
 g sind alle zu einem Apéro eingeladen.
ATTACH;FMTTYPE=image/jpeg:https://www.qkk6.ch/wp-content/uploads/2017-2.jp
 g
CATEGORIES:Lesung
LOCATION:Röslischüür\, Röslistrasse 9\, Zürich\, 8006\, Schweiz
GEO:47.388508;8.541154
X-APPLE-STRUCTURED-LOCATION;VALUE=URI;X-ADDRESS=Röslistrasse 9\, Zürich\,
  8006\, Schweiz;X-APPLE-RADIUS=100;X-TITLE=Röslischüür:geo:47.388508,8.
 541154
END:VEVENT
BEGIN:VTIMEZONE
TZID:Europe/Zurich
X-LIC-LOCATION:Europe/Zurich
BEGIN:DAYLIGHT
DTSTART:20180325T030000
TZOFFSETFROM:+0100
TZOFFSETTO:+0200
TZNAME:CEST
END:DAYLIGHT
END:VTIMEZONE
END:VCALENDAR