BEGIN:VCALENDAR
VERSION:2.0
PRODID:-//wp-events-plugin.com//7.2.3.1//EN
TZID:Europe/Zurich
X-WR-TIMEZONE:Europe/Zurich
BEGIN:VEVENT
UID:33@qkk6.ch
DTSTART;TZID=Europe/Zurich:20181027T170000
DTEND;TZID=Europe/Zurich:20181027T181500
DTSTAMP:20180823T191136Z
URL:https://www.qkk6.ch/events/2018/10/27/de-chlii-prinz-isch-glandet/
SUMMARY:De chlii Prinz isch glandet
DESCRIPTION:Zürich liest'18&nbsp\;&nbsp\;&nbsp\;&nbsp\; Das Buchfestival i
 n Zürich\, Winterthur und Region\n\nEn Klassiker nöi im hüttige Zürit
 üütsch\n\nDe Heinz Wegmann hät "De chlii Prinz" vom Antoine de Saint-Ex
 upéry uf Züritüütsch übersetzt und d' Verena Pavoni hät en nöi illu
 striert.\n\nMusikalische Begleitung: Levin Deger\, Gitarre\n\n" De chlii P
 rinz isch glandet"\n\nZweisprachige Lesung Französisch-Züritüütsch\n\n
 Françoise Lorenz liest die französischen Originaltexte aus Antoine de St
 .Exupérys " Le petit prince".\n\nHeinz Wegmann liest seine zürichdeutsch
 en Übersetzungen aus seinem Buch "De chlii Prinz".\n\nLevin Deger spielt 
 dazu auf seiner Gitarre.\n\nFreier Eintritt\n\nNach der Lesung sind alle z
 u einem Apéro eingeladen.
ATTACH;FMTTYPE=image/jpeg:https://www.qkk6.ch/wp-content/uploads/De-chlii-
 Prinz-2018.jpg
CATEGORIES:Konzert,Lesung
LOCATION:Röslischüür\, Röslistrasse 9\, Zürich\, 8006\, Schweiz
GEO:47.388508;8.541154
X-APPLE-STRUCTURED-LOCATION;VALUE=URI;X-ADDRESS=Röslistrasse 9\, Zürich\,
  8006\, Schweiz;X-APPLE-RADIUS=100;X-TITLE=Röslischüür:geo:47.388508,8.
 541154
END:VEVENT
BEGIN:VTIMEZONE
TZID:Europe/Zurich
X-LIC-LOCATION:Europe/Zurich
BEGIN:DAYLIGHT
DTSTART:20180325T030000
TZOFFSETFROM:+0100
TZOFFSETTO:+0200
TZNAME:CEST
END:DAYLIGHT
END:VTIMEZONE
END:VCALENDAR