BEGIN:VCALENDAR
VERSION:2.0
PRODID:-//wp-events-plugin.com//7.2.3.1//EN
TZID:Europe/Zurich
X-WR-TIMEZONE:Europe/Zurich
BEGIN:VEVENT
UID:38@qkk6.ch
DTSTART;TZID=Europe/Zurich:20181026T200000
DTEND;TZID=Europe/Zurich:20181026T213000
DTSTAMP:20181023T080119Z
URL:https://www.qkk6.ch/events/2018/10/26/peter-k-wehrli-katalog-von-allem
 /
SUMMARY:Peter K. Wehrli: "Katalog von Allem"
DESCRIPTION:Zürich liest'18&nbsp\;&nbsp\;&nbsp\;&nbsp\; Das Buchfestival i
 n Zürich\, Winterthur und Region\n\nSeit 50 Jahren arbeitet Peter K. Wehr
 li an seinem "Katalog von Allem". Weil er 1968 auf einer Reise seine Kamer
 a vergessen hatte\, beschloss er\, alles\, was er fotografiert hätte\, zu
  schreiben. Der Katalog wächst und wächst. In Buch- und Hörbuchausgaben
  entwickelt er sich zur "Schule der Wahrnehmung"\n\nFreier Eintritt\n\nNac
 h der Lesung sind alle zu einem Apéro eingeladen.
ATTACH;FMTTYPE=image/jpeg:https://www.qkk6.ch/wp-content/uploads/image001.
 jpg
CATEGORIES:Lesung
LOCATION:Röslischüür\, Röslistrasse 9\, Zürich\, 8006\, Schweiz
GEO:47.388508;8.541154
X-APPLE-STRUCTURED-LOCATION;VALUE=URI;X-ADDRESS=Röslistrasse 9\, Zürich\,
  8006\, Schweiz;X-APPLE-RADIUS=100;X-TITLE=Röslischüür:geo:47.388508,8.
 541154
END:VEVENT
BEGIN:VTIMEZONE
TZID:Europe/Zurich
X-LIC-LOCATION:Europe/Zurich
BEGIN:DAYLIGHT
DTSTART:20180325T030000
TZOFFSETFROM:+0100
TZOFFSETTO:+0200
TZNAME:CEST
END:DAYLIGHT
END:VTIMEZONE
END:VCALENDAR