BEGIN:VCALENDAR
VERSION:2.0
PRODID:-//wp-events-plugin.com//7.2.3.1//EN
TZID:Europe/Zurich
X-WR-TIMEZONE:Europe/Zurich
BEGIN:VEVENT
UID:34@qkk6.ch
DTSTART;TZID=Europe/Zurich:20181025T193000
DTEND;TZID=Europe/Zurich:20181025T210000
DTSTAMP:20180614T082846Z
URL:https://www.qkk6.ch/events/2018/10/25/blanchefleur/
SUMMARY:Blanchefleur
DESCRIPTION:Zürich liest'18&nbsp\;&nbsp\;&nbsp\;&nbsp\; Das Buchfestival i
 n Zürich\, Winterthur und Region\n\nAnita Siegfried liest aus ihrem neuen
  Buch\, erschienen im bilgerverlag 2018.\n\n"Er hatte die linke Schulter e
 inbandagiert\, den Arm in einer Schlinge\, das Blut sickerte durch den Lei
 nenstoff. Das nicht auch noch\, dachte sie\, und ihr Herz schnürte sich z
 usammen\, so jung\, fast ein Kind noch\, auch er würde sterben\, sie sah 
 es in seinen fiebrigen Augen\, wieder ein blühendes Leben vor die Säue g
 eworfen. Auf der Zapfsäule ein goldenes Schimmern\, im Raum hing ein Geru
 ch von Desinfektionsmitteln\, erkaltetem Zigarettenrauch und altem Holz\, 
 und Blanche ahnte\, dass sie\, was die Männer betraf\, ihre Vorsätze üb
 erdenken musste\,"\n\nFreier Eintritt\n\nNach der Lesung sind alle zu eine
 m Apéro eingeladen.
ATTACH;FMTTYPE=image/jpeg:https://www.qkk6.ch/wp-content/uploads/DSC9350-K
 opie.jpg
CATEGORIES:Konzert,Lesung
LOCATION:Röslischüür\, Röslistrasse 9\, Zürich\, 8006\, Schweiz
GEO:47.388508;8.541154
X-APPLE-STRUCTURED-LOCATION;VALUE=URI;X-ADDRESS=Röslistrasse 9\, Zürich\,
  8006\, Schweiz;X-APPLE-RADIUS=100;X-TITLE=Röslischüür:geo:47.388508,8.
 541154
END:VEVENT
BEGIN:VTIMEZONE
TZID:Europe/Zurich
X-LIC-LOCATION:Europe/Zurich
BEGIN:DAYLIGHT
DTSTART:20180325T030000
TZOFFSETFROM:+0100
TZOFFSETTO:+0200
TZNAME:CEST
END:DAYLIGHT
END:VTIMEZONE
END:VCALENDAR