BEGIN:VCALENDAR
VERSION:2.0
PRODID:-//wp-events-plugin.com//7.2.3.1//EN
TZID:Europe/Zurich
X-WR-TIMEZONE:Europe/Zurich
BEGIN:VEVENT
UID:39@qkk6.ch
DTSTART;TZID=Europe/Zurich:20181013T200000
DTEND;TZID=Europe/Zurich:20181013T213000
DTSTAMP:20180904T150419Z
URL:https://www.qkk6.ch/events/2018/10/13/alles-das-kann-ich-mit-wahrheit-
 melden/
SUMMARY:CD - Taufe "Alles das kann ich mit Wahrheit melden"
DESCRIPTION:Claudia Rea Kost singt Hanns Eisler und Barbara. Am Klavier: Da
 niel Fueter\n\n\n\n„Die erste der beiden CDs durchmisst den Kosmos der E
 islerschen Liedkunst in seiner ganzen Bandbreite: Von den Liedern\, die Sc
 hönbergs Lehrerschaft verraten über Kampflieder bis zu Tucholsky-Chanson
 s. Sie spannt ausserdem – sozusagen rückwärts – einen Bogen über di
 e gesamte Zeit der Zusammenarbeit von Hanns Eisler und Bert Brecht. \n\nDi
 e auf der zweiten CD eingespielten „Coverversionen“ von 20 der schöns
 ten&nbsp\;Chansons der französischen Chansonnière Barbara\, wurden von D
 aniel Fueter für Gesang und Klavier stilistisch divers und ungemein farbi
 g arrangiert."\n\nPräsentation der Doppel-CD "Rea Claudia Kost singt Hann
 s Eisler und Barbara. Am Klavier: Daniel Fueter" erschienen bei Solo Music
 a/Sony Music in Koproduktion mit Radio SRF2. Das kurze kommentierte Konzer
 t ist zur Hauptsache Hanns Eisler gewidmet. Einige Barbara Chansons runden
  die Präsentation ab. \n\nReservation empfohlen! 044 361 80 51 oder ticke
 ts@theater-rigiblick.ch\n\n\n\n&nbsp\;\n&nbsp\;\n&nbsp\;\n&nbsp\;\n\n\n\nE
 intrittspreise (freie Platzwahl)\nFr. 20.– / 15.– / 10.–\n\n\n&nbsp\
 ;
ATTACH;FMTTYPE=image/jpeg:https://www.qkk6.ch/wp-content/uploads/Rea-und-D
 aniel.jpg
CATEGORIES:Konzert
LOCATION:Theater Rigiblick\, Germaniastrasse 99\, Zürich\, 8044\, Schweiz
GEO:47.388274;8.553456
X-APPLE-STRUCTURED-LOCATION;VALUE=URI;X-ADDRESS=Germaniastrasse 99\, Züric
 h\, 8044\, Schweiz;X-APPLE-RADIUS=100;X-TITLE=Theater Rigiblick:geo:47.388
 274,8.553456
END:VEVENT
BEGIN:VTIMEZONE
TZID:Europe/Zurich
X-LIC-LOCATION:Europe/Zurich
BEGIN:DAYLIGHT
DTSTART:20180325T030000
TZOFFSETFROM:+0100
TZOFFSETTO:+0200
TZNAME:CEST
END:DAYLIGHT
END:VTIMEZONE
END:VCALENDAR