BEGIN:VCALENDAR
VERSION:2.0
PRODID:-//wp-events-plugin.com//7.2.3.1//EN
TZID:Europe/Zurich
X-WR-TIMEZONE:Europe/Zurich
BEGIN:VEVENT
UID:41@qkk6.ch
DTSTART;TZID=Europe/Zurich:20181002T200000
DTEND;TZID=Europe/Zurich:20181002T220000
DTSTAMP:20180810T063905Z
URL:https://www.qkk6.ch/events/2018/10/02/buchvernissage-emil-zopfi-2/
SUMMARY:Devi Reith Trio
DESCRIPTION:\n\n&nbsp\;\nDie Sängerin Devi Reith und der Gitarrist Felix U
 tzinger schreiben&nbsp\;zusammen Songs von tiefer&nbsp\;Verbundenheit\, di
 e das Herz bewegen.\nDie Texte von Devi Reith handeln von Sehnsüchten\, w
 elche die Zuhörer auf eine&nbsp\;Reise in innere Welten einladen.\nMit de
 r&nbsp\;Raffinesse von&nbsp\;Willy Kotouns Rhythmen wird ihre Musik durch 
 eine verspielte&nbsp\;Bodenständigkeit&nbsp\;erweitert.\nMit Harmonium\, 
 Klavier\, perkussiven Sounds und dem Einbinden von Loops erweitert das Tri
 o den Farbenreichtum&nbsp\;ihrer Musik auf mehreren Ebenen\, so dass diese
  intime Formation zu&nbsp\;orchestralen&nbsp\;Klängen abheben kann.\nStil
 istisch ist das Trio inspiriert aus der World-Musik mit indischen und süd
 amerikanisch indigenen Einflüssen. Auch die Blackamerican Music und Songw
 riter-Tradition findet Eingang in ihre musikalische Ausflüge.\n&nbsp\;\nM
 usiker:\nDevi Reith: Gesang\, Klavier\, Harmonium\nFelix Utzinger: Gitarre
 \, Loops\nWilly Kotoun: Perkussion\n\n&nbsp\;\n&nbsp\;\n\n\n\n&nbsp\;\n&nb
 sp\;\n&nbsp\;\n\n\nFreier Eintritt\n\nNach dem Konzert sind alle zu einem 
 Apéro eingeladen.\n\nIn der Röslischüür\, Röslistrasse 9\, 8006 Züri
 ch\n\n&nbsp\;
ATTACH;FMTTYPE=image/jpeg:https://www.qkk6.ch/wp-content/uploads/IMG_0017.
 jpg
CATEGORIES:Konzert
LOCATION:Röslischüür\, Röslistrasse 9\, Zürich\, 8006\, Schweiz
GEO:47.388508;8.541154
X-APPLE-STRUCTURED-LOCATION;VALUE=URI;X-ADDRESS=Röslistrasse 9\, Zürich\,
  8006\, Schweiz;X-APPLE-RADIUS=100;X-TITLE=Röslischüür:geo:47.388508,8.
 541154
END:VEVENT
BEGIN:VTIMEZONE
TZID:Europe/Zurich
X-LIC-LOCATION:Europe/Zurich
BEGIN:DAYLIGHT
DTSTART:20180325T030000
TZOFFSETFROM:+0100
TZOFFSETTO:+0200
TZNAME:CEST
END:DAYLIGHT
END:VTIMEZONE
END:VCALENDAR