BEGIN:VCALENDAR
VERSION:2.0
PRODID:-//wp-events-plugin.com//7.2.3.1//EN
TZID:Europe/Zurich
X-WR-TIMEZONE:Europe/Zurich
BEGIN:VEVENT
UID:32@qkk6.ch
DTSTART;TZID=Europe/Zurich:20181001T200000
DTEND;TZID=Europe/Zurich:20181001T211500
DTSTAMP:20180613T133759Z
URL:https://www.qkk6.ch/events/2018/10/01/balladen-im-rigiblick-2/
SUMMARY:Balladen im Rigiblick
DESCRIPTION:Eine Koproduktion von Quartier-Kultur Kreis 6 und Theater Rigib
 lick.\n\nIm Volkston\n\nBalladen von der Liebe und Volksliedbearbeitungen 
 von Johannes Brahms\n\nCharlotte Schwab\, Rezitation\n\nAnna Gschwend\, So
 pran\n\nSamuel Zünd\, Bariton\n\nRafael Rütti\, Klavier\n\nEintritt Fr. 
 28.--/23.--/15.—\n\nReservation: 044 361 83 38 oder tickets@theater-rigi
 blick.ch
CATEGORIES:Konzert,Lesung
LOCATION:Theater Rigiblick\, Germaniastrasse 99\, Zürich\, 8044\, Schweiz
GEO:47.388274;8.553456
X-APPLE-STRUCTURED-LOCATION;VALUE=URI;X-ADDRESS=Germaniastrasse 99\, Züric
 h\, 8044\, Schweiz;X-APPLE-RADIUS=100;X-TITLE=Theater Rigiblick:geo:47.388
 274,8.553456
END:VEVENT
BEGIN:VTIMEZONE
TZID:Europe/Zurich
X-LIC-LOCATION:Europe/Zurich
BEGIN:DAYLIGHT
DTSTART:20180325T030000
TZOFFSETFROM:+0100
TZOFFSETTO:+0200
TZNAME:CEST
END:DAYLIGHT
END:VTIMEZONE
END:VCALENDAR