BEGIN:VCALENDAR
VERSION:2.0
PRODID:-//wp-events-plugin.com//7.2.3.1//EN
TZID:Europe/Zurich
X-WR-TIMEZONE:Europe/Zurich
BEGIN:VEVENT
UID:45@qkk6.ch
DTSTART;TZID=Europe/Zurich:20180923T140000
DTEND;TZID=Europe/Zurich:20180923T143000
DTSTAMP:20180812T201241Z
URL:https://www.qkk6.ch/events/2018/09/23/musikalische-lesung-atelierkulto
 ur-tage-der-offenen-ateliers-kreis-6/
SUMMARY:Musikalische Lesung  ATELIERKULTOUR Tage der offenen Ateliers Kreis
  6
DESCRIPTION:Unser kulturelles Programm:\n\n"Ein Bergbach geht auf Reisen" v
 on Esther Elisabeth Ernst\n\n\nMit Bildern\, Text (deutsch und rätoromani
 sch) und Musik begleiten wir in 24 Kapiteln den Inn von der Quelle bis zum
  Meer.\n\nDauer 30 Minuten\n\nErzählerinnen:\nRegula Frei (deutsch)\nNady
 a Vonmoos (rätoromanisch)\nKlavier:\nAgnes Joshi-Meili\n\n&nbsp\;Weitere 
 Infos unter:&nbsp\; http://www.atelierkultour.ch\nKörbe aus Kalabrien. Di
 e G\nBild: Marco Volken\n&nbsp\;
ATTACH;FMTTYPE=image/jpeg:https://www.qkk6.ch/wp-content/uploads/IMG_1206-
 agnes-kl.jpg
CATEGORIES:Ausstellung,Konzert,Lesung
LOCATION:Röslischüür\, Röslistrasse 9\, Zürich\, 8006\, Schweiz
GEO:47.388508;8.541154
X-APPLE-STRUCTURED-LOCATION;VALUE=URI;X-ADDRESS=Röslistrasse 9\, Zürich\,
  8006\, Schweiz;X-APPLE-RADIUS=100;X-TITLE=Röslischüür:geo:47.388508,8.
 541154
END:VEVENT
BEGIN:VTIMEZONE
TZID:Europe/Zurich
X-LIC-LOCATION:Europe/Zurich
BEGIN:DAYLIGHT
DTSTART:20180325T030000
TZOFFSETFROM:+0100
TZOFFSETTO:+0200
TZNAME:CEST
END:DAYLIGHT
END:VTIMEZONE
END:VCALENDAR