BEGIN:VCALENDAR
VERSION:2.0
PRODID:-//wp-events-plugin.com//7.2.3.1//EN
TZID:Europe/Zurich
X-WR-TIMEZONE:Europe/Zurich
BEGIN:VEVENT
UID:46@qkk6.ch
DTSTART;TZID=Europe/Zurich:20180923T110000
DTEND;TZID=Europe/Zurich:20180923T160000
DTSTAMP:20210407T120513Z
URL:https://www.qkk6.ch/events/2018/09/23/atelierkultour-tage-der-offenen-
 ateliers-kreis-6-4/
SUMMARY:ATELIERKULTOUR Tage der offenen Ateliers Kreis 6
DESCRIPTION:Die ATELIERKULTOUR 2018 bietet das Erlebnis von vielfältiger K
 reativität. Unterwegs sein im Kreis 6\, Menschen treffen\, hinter Kulisse
 n sehen\, Unbekanntes entdecken und die Atmosphäre ideenreicher Orte geni
 essen\, Musik hören und ein Quartierfest feiern - das sind die Tage der o
 ffenen Ateliers.\n\nEine Co-Produktion von Quartierkultur Kreis und Quarti
 erverein Unterstrass.\n\nSonntag\, 23.09. Röslischüür offen von 11 - 16
  Uhr\n\nAm Nachmittag&nbsp\; 2 Führungen durchs Quartier mit musikalische
 r Begleitung.\n"Air Collage" mit Marcel Roth\, Akkordeon und Markus Tinner
 \, Klarinette\n&nbsp\;\n&nbsp\;„Launische Kurzgeschichten für Akkordeon
  und Klarinette“ Eigenkompositionen.\n&nbsp\;\n&nbsp\;\n„Musik mit Lau
 nen\, Ecken und Kanten. Spielend erzählt. Reich an Stimmungen. Begegnunge
 n mit extrovertierten Gemütern und verborgenen Seelenlandschaften. Reisen
  durch stille und dynamische Zeitzonen\, zu bekannten Orten und zu den let
 zten weissen Flecken auf der Landkarte“.\n&nbsp\;\n&nbsp\;\n\nWeitere In
 fos unter:&nbsp\; http://www.atelierkultour.ch\nKörbe aus Kalabrien. Die 
 G\nBild: Marco Volken\n&nbsp\;\nDer Film\nhttps://www.youtube.com/embed/ol
 HLsBX9pzQ
ATTACH;FMTTYPE=image/jpeg:https://www.qkk6.ch/wp-content/uploads/27A8911-2
 -Bearbeitet_27A8911-22017-kl.jpg
CATEGORIES:Ausstellung,Konzert,Lesung
LOCATION:Röslischüür\, Röslistrasse 9\, Zürich\, 8006\, Schweiz
GEO:47.388508;8.541154
X-APPLE-STRUCTURED-LOCATION;VALUE=URI;X-ADDRESS=Röslistrasse 9\, Zürich\,
  8006\, Schweiz;X-APPLE-RADIUS=100;X-TITLE=Röslischüür:geo:47.388508,8.
 541154
END:VEVENT
BEGIN:VTIMEZONE
TZID:Europe/Zurich
X-LIC-LOCATION:Europe/Zurich
BEGIN:DAYLIGHT
DTSTART:20180325T030000
TZOFFSETFROM:+0100
TZOFFSETTO:+0200
TZNAME:CEST
END:DAYLIGHT
END:VTIMEZONE
END:VCALENDAR