BEGIN:VCALENDAR
VERSION:2.0
PRODID:-//wp-events-plugin.com//7.2.3.1//EN
TZID:Europe/Zurich
X-WR-TIMEZONE:Europe/Zurich
BEGIN:VEVENT
UID:43@qkk6.ch
DTSTART;TZID=Europe/Zurich:20180922T160000
DTEND;TZID=Europe/Zurich:20180922T163000
DTSTAMP:20180712T073915Z
URL:https://www.qkk6.ch/events/2018/09/22/atelierkultour-tage-der-offenen-
 ateliers-kreis-6-3/
SUMMARY:Musikalische Lesung  ATELIERKULTOUR Tage der offenen Ateliers Kreis
  6
DESCRIPTION:Unser kulturelles Programm:\n\n\n&gt\; Texte aus Victory. Ein Q
 uartett von Jeanine Osborne\, Wolfbach Verlag\, und\n&gt\; von Martin Kunz
  (u.a. aus Honig und Quarz\, Collection Entrada)\n&gt\; mit \n&gt\; Jeanin
 e Osborne: Text\, Stimme\, Gesang\n&gt\; Martin Kunz: Text\, Klavier\n&gt\
 ; Christian Wirth: Bassklarinette\n\n&nbsp\;\n\nWeitere Infos unter:&nbsp\
 ; http://www.atelierkultour.ch\nKörbe aus Kalabrien. Die G\nBild: Marco V
 olken\n&nbsp\;
ATTACH;FMTTYPE=image/jpeg:https://www.qkk6.ch/wp-content/uploads/IMG_5661-
 osborne-kl.jpg
CATEGORIES:Ausstellung,Konzert,Lesung
LOCATION:Röslischüür\, Röslistrasse 9\, Zürich\, 8006\, Schweiz
GEO:47.388508;8.541154
X-APPLE-STRUCTURED-LOCATION;VALUE=URI;X-ADDRESS=Röslistrasse 9\, Zürich\,
  8006\, Schweiz;X-APPLE-RADIUS=100;X-TITLE=Röslischüür:geo:47.388508,8.
 541154
END:VEVENT
BEGIN:VTIMEZONE
TZID:Europe/Zurich
X-LIC-LOCATION:Europe/Zurich
BEGIN:DAYLIGHT
DTSTART:20180325T030000
TZOFFSETFROM:+0100
TZOFFSETTO:+0200
TZNAME:CEST
END:DAYLIGHT
END:VTIMEZONE
END:VCALENDAR