BEGIN:VCALENDAR
VERSION:2.0
PRODID:-//wp-events-plugin.com//7.2.3.1//EN
TZID:Europe/Zurich
X-WR-TIMEZONE:Europe/Zurich
BEGIN:VEVENT
UID:42@qkk6.ch
DTSTART;TZID=Europe/Zurich:20180922T133000
DTEND;TZID=Europe/Zurich:20180922T140000
DTSTAMP:20180712T073640Z
URL:https://www.qkk6.ch/events/2018/09/22/atelierkultour-tage-der-offenen-
 ateliers-kreis-6-2/
SUMMARY:Lesung in der Röslischüür ATELIERKULTOUR Tage der offenen Atelie
 rs Kreis 6
DESCRIPTION:&nbsp\;\n\nUnser kulturelles Programm:\n\nSamstag\, 22.09. 13.3
 0 Uhr liest Emil Zopfi aus seinem neuen Buch "Menschen am Weg" Begegnungen
 \n\nKörbe aus Kalabrien. Die Geschichte einer handwerklichen Passion\n\nW
 eitere Infos unter:&nbsp\; http://www.atelierkultour.ch\nKörbe aus Kalabr
 ien. Die G\nBild: Marco Volken\n&nbsp\;
ATTACH;FMTTYPE=image/jpeg:https://www.qkk6.ch/wp-content/uploads/Zopfi_by_
 Marco_Volken_2kl.jpg
CATEGORIES:Ausstellung,Konzert,Lesung
LOCATION:Röslischüür\, Röslistrasse 9\, Zürich\, 8006\, Schweiz
GEO:47.388508;8.541154
X-APPLE-STRUCTURED-LOCATION;VALUE=URI;X-ADDRESS=Röslistrasse 9\, Zürich\,
  8006\, Schweiz;X-APPLE-RADIUS=100;X-TITLE=Röslischüür:geo:47.388508,8.
 541154
END:VEVENT
BEGIN:VTIMEZONE
TZID:Europe/Zurich
X-LIC-LOCATION:Europe/Zurich
BEGIN:DAYLIGHT
DTSTART:20180325T030000
TZOFFSETFROM:+0100
TZOFFSETTO:+0200
TZNAME:CEST
END:DAYLIGHT
END:VTIMEZONE
END:VCALENDAR