BEGIN:VCALENDAR
VERSION:2.0
PRODID:-//wp-events-plugin.com//7.2.3.1//EN
TZID:Europe/Zurich
X-WR-TIMEZONE:Europe/Zurich
BEGIN:VEVENT
UID:47@qkk6.ch
DTSTART;TZID=Europe/Zurich:20180921T180000
DTEND;TZID=Europe/Zurich:20180921T193000
DTSTAMP:20180712T160346Z
URL:https://www.qkk6.ch/events/2018/09/21/netzwerkapero-fuer-teilnehmende-
 ateliers/
SUMMARY:Netzwerkapéro für teilnehmende Ateliers
DESCRIPTION:Eine Co-Produktion von Quartierkultur Kreis und Quartierverein 
 Unterstrass.\n\nApéro für teilnehmende Ateliers auf Einladung in der Rö
 sischüür.\n\nModeration: Marco Caduff\,\n\nMusik mit Regula Julen. Sie s
 pielt Akkordeon und Drehleier. Volksmusik aus Osteuropa\, dem Balkan\, Ita
 lien und der Schweiz.\n\n\n\n&nbsp\;\n\n\n\nWeitere Infos unter:&nbsp\; ht
 tp://www.atelierkultour.ch\nKörbe aus Kalabrien. Die G\nBild: Marco Volke
 n\n&nbsp\;
ATTACH;FMTTYPE=image/jpeg:https://www.qkk6.ch/wp-content/uploads/20180712_
 102411-e1531410613629.jpg
CATEGORIES:Ausstellung,Konzert,Lesung
LOCATION:Röslischüür\, Röslistrasse 9\, Zürich\, 8006\, Schweiz
GEO:47.388508;8.541154
X-APPLE-STRUCTURED-LOCATION;VALUE=URI;X-ADDRESS=Röslistrasse 9\, Zürich\,
  8006\, Schweiz;X-APPLE-RADIUS=100;X-TITLE=Röslischüür:geo:47.388508,8.
 541154
END:VEVENT
BEGIN:VTIMEZONE
TZID:Europe/Zurich
X-LIC-LOCATION:Europe/Zurich
BEGIN:DAYLIGHT
DTSTART:20180325T030000
TZOFFSETFROM:+0100
TZOFFSETTO:+0200
TZNAME:CEST
END:DAYLIGHT
END:VTIMEZONE
END:VCALENDAR