BEGIN:VCALENDAR
VERSION:2.0
PRODID:-//wp-events-plugin.com//7.2.3.1//EN
TZID:Europe/Zurich
X-WR-TIMEZONE:Europe/Zurich
BEGIN:VEVENT
UID:31@qkk6.ch
DTSTART;TZID=Europe/Zurich:20180917T200000
DTEND;TZID=Europe/Zurich:20180917T211500
DTSTAMP:20180613T133313Z
URL:https://www.qkk6.ch/events/2018/09/17/balladen-im-rigiblick/
SUMMARY:Balladen im Rigiblick
DESCRIPTION:Eine Koproduktion von Quartier-Kultur Kreis 6 und Theater Rigib
 lick.\nAus Dr. Kästners Hausapotheke\nErich Kästner gelesen und gesungen
 \n\nRahel Matter\, Rezitation\n\nClara Sophie Bertram\, Mezzosopran\n\nFre
 ya Jung\, Klavier\n\nEintritt Fr. 28.--/23.--/15.—\n\nReservation: 044 3
 61 83 38 oder tickets@theater-rigiblick.ch
CATEGORIES:Konzert,Lesung
LOCATION:Theater Rigiblick\, Germaniastrasse 99\, Zürich\, 8044\, Schweiz
GEO:47.388274;8.553456
X-APPLE-STRUCTURED-LOCATION;VALUE=URI;X-ADDRESS=Germaniastrasse 99\, Züric
 h\, 8044\, Schweiz;X-APPLE-RADIUS=100;X-TITLE=Theater Rigiblick:geo:47.388
 274,8.553456
END:VEVENT
BEGIN:VTIMEZONE
TZID:Europe/Zurich
X-LIC-LOCATION:Europe/Zurich
BEGIN:DAYLIGHT
DTSTART:20180325T030000
TZOFFSETFROM:+0100
TZOFFSETTO:+0200
TZNAME:CEST
END:DAYLIGHT
END:VTIMEZONE
END:VCALENDAR