BEGIN:VCALENDAR
VERSION:2.0
PRODID:-//wp-events-plugin.com//7.2.3.1//EN
TZID:Europe/Zurich
X-WR-TIMEZONE:Europe/Zurich
BEGIN:VEVENT
UID:40@qkk6.ch
DTSTART;TZID=Europe/Zurich:20180913T193000
DTEND;TZID=Europe/Zurich:20180913T203000
DTSTAMP:20180815T064943Z
URL:https://www.qkk6.ch/events/2018/09/13/lesung-mit-dinah-hinz/
SUMMARY:Lesung mit Dinah Hinz
DESCRIPTION:«Was heisst denn hier Alter?!!»\n\nEin satirisch-vergnüglich
 es Einfrauenprogramm mit Dinah Hinz…und mit Erich Fried\, Albert Schweit
 zer\, Siegfried Lenz\, Rose Ausländer\, Kurt Tucholsky\, Erich Kästner u
 nd weiteren Meistern ihres Faches.\n\nHumorvoll und lebensbejahend\n\nDem 
 Theaterpublikum ist Dinah Hinz seit Jahren bestens bekannt. Sie war und is
 t auf vielen grossen deutschsprachigen Bühnen zu Hause.\n\nFreier Eintrit
 t\, Kollekte\n\nNach der Lesung sind alle zu einem Apéro eingeladen.\n\nI
 n der Röslischüür\, Röslistrasse 9\, 8006 Zürich\n\n&nbsp\;
ATTACH;FMTTYPE=image/jpeg:https://www.qkk6.ch/wp-content/uploads/Dinah-Hin
 z-180701-m-Text.jpg
CATEGORIES:Lesung
LOCATION:Röslischüür\, Röslistrasse 9\, Zürich\, 8006\, Schweiz
GEO:47.388508;8.541154
X-APPLE-STRUCTURED-LOCATION;VALUE=URI;X-ADDRESS=Röslistrasse 9\, Zürich\,
  8006\, Schweiz;X-APPLE-RADIUS=100;X-TITLE=Röslischüür:geo:47.388508,8.
 541154
END:VEVENT
BEGIN:VTIMEZONE
TZID:Europe/Zurich
X-LIC-LOCATION:Europe/Zurich
BEGIN:DAYLIGHT
DTSTART:20180325T030000
TZOFFSETFROM:+0100
TZOFFSETTO:+0200
TZNAME:CEST
END:DAYLIGHT
END:VTIMEZONE
END:VCALENDAR