BEGIN:VCALENDAR
VERSION:2.0
PRODID:-//wp-events-plugin.com//7.2.3.1//EN
TZID:Europe/Zurich
X-WR-TIMEZONE:Europe/Zurich
BEGIN:VEVENT
UID:29@qkk6.ch
DTSTART;TZID=Europe/Zurich:20180911T193000
DTEND;TZID=Europe/Zurich:20180911T203000
DTSTAMP:20180614T150327Z
URL:https://www.qkk6.ch/events/2018/09/11/buchvernissage-emil-zopfi/
SUMMARY:Buchvernissage Emil Zopfi
DESCRIPTION:Emil Zopfi - Menschen am Weg - Begegnungen\n\nEin zärtliches\,
  berührendes Buch über die Momente\, die ein Leben prägen können.\n\nM
 usikalische Begleitung: Martin Lehmann\, Blues\n\nFreier Eintritt\n\nNach 
 der Lesung sind alle zu einem Apéro eingeladen.\n\nIn der Röslischüür\
 , Röslistrasse 9\, 8006 Zürich\n\nBild von Marco Volken
ATTACH;FMTTYPE=image/jpeg:https://www.qkk6.ch/wp-content/uploads/Zopfi_by_
 Marco_Volken_1kl.jpg
CATEGORIES:Lesung
LOCATION:Röslischüür\, Röslistrasse 9\, Zürich\, 8006\, Schweiz
GEO:47.388508;8.541154
X-APPLE-STRUCTURED-LOCATION;VALUE=URI;X-ADDRESS=Röslistrasse 9\, Zürich\,
  8006\, Schweiz;X-APPLE-RADIUS=100;X-TITLE=Röslischüür:geo:47.388508,8.
 541154
END:VEVENT
BEGIN:VTIMEZONE
TZID:Europe/Zurich
X-LIC-LOCATION:Europe/Zurich
BEGIN:DAYLIGHT
DTSTART:20180325T030000
TZOFFSETFROM:+0100
TZOFFSETTO:+0200
TZNAME:CEST
END:DAYLIGHT
END:VTIMEZONE
END:VCALENDAR