BEGIN:VCALENDAR
VERSION:2.0
PRODID:-//wp-events-plugin.com//7.2.3.1//EN
TZID:Europe/Zurich
X-WR-TIMEZONE:Europe/Zurich
BEGIN:VEVENT
UID:27@qkk6.ch
DTSTART;TZID=Europe/Zurich:20180618T200000
DTEND;TZID=Europe/Zurich:20180618T200000
DTSTAMP:20180413T100850Z
URL:https://www.qkk6.ch/events/2018/06/18/balladen-im-theater-rigiblick-ba
 lladen-mit-klaus-henner-russius/
SUMMARY:Die Ballade vom traurigen Café
DESCRIPTION:Eine Koproduktion von Quartier-Kultur Kreis 6 und Theater Rigib
 lick.\n\nMusikalisches Erzähltheater nach McCullers und Edward Albee.\n\n
 " Die Ballade vom traurigen Café" ist eine einzigartige\, manchmal grotes
 ke Geschichte voll unkonventioneller Protagonisten\, die in Liebe und Hass
  versponnen sind. Kein heiteres Stück - aber spannend wie ein Krimi!\n\nM
 usik und Spiel: Cornelia Montani\, Joe Fenner\, Daniel Schneider\, Kristia
 n Trafeld. Regie: Klaus Henner Russius\n&nbsp\;\nEintritt Fr. 28.--/23.--/
 15.—\n\nReservation: 044 361 83 38 oder tickets@theater-rigiblick.ch
CATEGORIES:Konzert,Lesung
LOCATION:Theater Rigiblick\, Germaniastrasse 99\, Zürich\, 8044\, Schweiz
GEO:47.388274;8.553456
X-APPLE-STRUCTURED-LOCATION;VALUE=URI;X-ADDRESS=Germaniastrasse 99\, Züric
 h\, 8044\, Schweiz;X-APPLE-RADIUS=100;X-TITLE=Theater Rigiblick:geo:47.388
 274,8.553456
END:VEVENT
BEGIN:VTIMEZONE
TZID:Europe/Zurich
X-LIC-LOCATION:Europe/Zurich
BEGIN:DAYLIGHT
DTSTART:20180325T030000
TZOFFSETFROM:+0100
TZOFFSETTO:+0200
TZNAME:CEST
END:DAYLIGHT
END:VTIMEZONE
END:VCALENDAR