BEGIN:VCALENDAR
VERSION:2.0
PRODID:-//wp-events-plugin.com//7.2.3.1//EN
TZID:Europe/Zurich
X-WR-TIMEZONE:Europe/Zurich
BEGIN:VEVENT
UID:24@qkk6.ch
DTSTART;TZID=Europe/Zurich:20180529T200000
DTEND;TZID=Europe/Zurich:20180529T200000
DTSTAMP:20180320T111633Z
URL:https://www.qkk6.ch/events/2018/05/29/ars-canora-im-rigiblick/
SUMMARY:Ars Canora im Rigiblick
DESCRIPTION:&nbsp\;\n\nMitwirkende: Vokalensemble Ars Canora\; Ina Callejas
 \, Akkordeon\; Stephan Fuchs\, Leitung\n\nMit einer bunten Mischung an a c
 apella Werken lädt das Vokalensemble Ars Canora zu einem musikalisch-humo
 ristischen Blick auf den Frühling ein. Als Partnerin tritt die internatio
 nal agierende Akkordenistin Ina Callejas auf.\n\n&nbsp\;\n\n&nbsp\;\n\nEin
 tritt: Fr. 30.--/25.--/20\n\n&nbsp\;
ATTACH;FMTTYPE=image/jpeg:https://www.qkk6.ch/wp-content/uploads/DSC_0185.
 jpg
CATEGORIES:Konzert
LOCATION:Theater Rigiblick\, Germaniastrasse 99\, Zürich\, 8044\, Schweiz
GEO:47.388274;8.553456
X-APPLE-STRUCTURED-LOCATION;VALUE=URI;X-ADDRESS=Germaniastrasse 99\, Züric
 h\, 8044\, Schweiz;X-APPLE-RADIUS=100;X-TITLE=Theater Rigiblick:geo:47.388
 274,8.553456
END:VEVENT
BEGIN:VTIMEZONE
TZID:Europe/Zurich
X-LIC-LOCATION:Europe/Zurich
BEGIN:DAYLIGHT
DTSTART:20180325T030000
TZOFFSETFROM:+0100
TZOFFSETTO:+0200
TZNAME:CEST
END:DAYLIGHT
END:VTIMEZONE
END:VCALENDAR