BEGIN:VCALENDAR
VERSION:2.0
PRODID:-//wp-events-plugin.com//7.2.3.1//EN
TZID:Europe/Zurich
X-WR-TIMEZONE:Europe/Zurich
BEGIN:VEVENT
UID:23@qkk6.ch
DTSTART;TZID=Europe/Zurich:20180528T200000
DTEND;TZID=Europe/Zurich:20180528T200000
DTSTAMP:20180320T111146Z
URL:https://www.qkk6.ch/events/2018/05/28/balladen-im-theater-rigiblick-mo
 ravagines-schaurige-geschichten/
SUMMARY:Balladen im Theater Rigiblick Moravagines schaurige Geschichten
DESCRIPTION:Eine Koproduktion von Quartier-Kultur Kreis 6 und Theater Rigib
 lick\n\nCendrars/Schütz mit Robert Hunger-Bühler und Martin Schütz
CATEGORIES:Konzert,Lesung
END:VEVENT
BEGIN:VTIMEZONE
TZID:Europe/Zurich
X-LIC-LOCATION:Europe/Zurich
BEGIN:DAYLIGHT
DTSTART:20180325T030000
TZOFFSETFROM:+0100
TZOFFSETTO:+0200
TZNAME:CEST
END:DAYLIGHT
END:VTIMEZONE
END:VCALENDAR