BEGIN:VCALENDAR
VERSION:2.0
PRODID:-//wp-events-plugin.com//7.2.3.1//EN
TZID:Europe/Zurich
X-WR-TIMEZONE:Europe/Zurich
BEGIN:VEVENT
UID:22@qkk6.ch
DTSTART;TZID=Europe/Zurich:20180428T200000
DTEND;TZID=Europe/Zurich:20180428T200000
DTSTAMP:20180312T141128Z
URL:https://www.qkk6.ch/events/2018/04/28/tanz-des-lebens/
SUMMARY:Tanz des Lebens mit Eriko Kagawa und Jürg Eichenberger
DESCRIPTION:Eriko Kagawa (Klavier) und Jürg Eichenberger (Violoncello) ste
 llen ihre neue CD vor.\n\nDer "Tanz des Lebens" ist ein Zeugnis der Freund
 schaft von Jürg Eichenberger mit José Bragato\, dem argentinischen Celli
 sten und Komponisten\, der eng mit Astor Piazzolla zusammengearbeitet hat.
  Viel Emotion\, viel Augenzwinkern\, Bekanntes\, Unbekanntes und immer tä
 nzerischer Schwung.\n\nEintritt: Fr. 30.--/25.--\n\n&nbsp\;
ATTACH;FMTTYPE=image/jpeg:https://www.qkk6.ch/wp-content/uploads/ErikoJür
 g-0505Qk.jpg
CATEGORIES:Konzert
LOCATION:Theater Rigiblick\, Germaniastrasse 99\, Zürich\, 8044\, Schweiz
GEO:47.388274;8.553456
X-APPLE-STRUCTURED-LOCATION;VALUE=URI;X-ADDRESS=Germaniastrasse 99\, Züric
 h\, 8044\, Schweiz;X-APPLE-RADIUS=100;X-TITLE=Theater Rigiblick:geo:47.388
 274,8.553456
END:VEVENT
BEGIN:VTIMEZONE
TZID:Europe/Zurich
X-LIC-LOCATION:Europe/Zurich
BEGIN:DAYLIGHT
DTSTART:20180325T030000
TZOFFSETFROM:+0100
TZOFFSETTO:+0200
TZNAME:CEST
END:DAYLIGHT
END:VTIMEZONE
END:VCALENDAR