BEGIN:VCALENDAR
VERSION:2.0
PRODID:-//wp-events-plugin.com//7.2.3.1//EN
TZID:Europe/Zurich
X-WR-TIMEZONE:Europe/Zurich
BEGIN:VEVENT
UID:20@qkk6.ch
DTSTART;TZID=Europe/Zurich:20180422T180000
DTEND;TZID=Europe/Zurich:20180422T180000
DTSTAMP:20180312T140927Z
URL:https://www.qkk6.ch/events/2018/04/22/lesung-mit-musik-im-theater-rigi
 blick/
SUMMARY:Lesung mit Musik im Theater Rigiblick\, es lesen Stef Stauffer\, Lu
 kas Hartmann und Joshi Kühne
DESCRIPTION:Ein Bild von Lydia Eine Geschichte - zwei Romane\n\n\nLydia Wel
 ti-Escher - Eine Geschichte\, zwei Romane. Neu verfasst und stimmungsvoll 
 in Szene gesetzt.\n\nEs lesen Lukas Hartmann\, Stef Stauffer und Joschi K
 ühne. Am Klavier: Christian Brantschen.\n\n&nbsp\;\n\nEintritt: Fr. 20.--
ATTACH;FMTTYPE=image/jpeg:https://www.qkk6.ch/wp-content/uploads/Buch-Lh-S
 S.jpg
CATEGORIES:Konzert,Lesung
LOCATION:Theater Rigiblick\, Germaniastrasse 99\, Zürich\, 8044\, Schweiz
GEO:47.388274;8.553456
X-APPLE-STRUCTURED-LOCATION;VALUE=URI;X-ADDRESS=Germaniastrasse 99\, Züric
 h\, 8044\, Schweiz;X-APPLE-RADIUS=100;X-TITLE=Theater Rigiblick:geo:47.388
 274,8.553456
END:VEVENT
BEGIN:VTIMEZONE
TZID:Europe/Zurich
X-LIC-LOCATION:Europe/Zurich
BEGIN:DAYLIGHT
DTSTART:20180325T030000
TZOFFSETFROM:+0100
TZOFFSETTO:+0200
TZNAME:CEST
END:DAYLIGHT
END:VTIMEZONE
END:VCALENDAR