BEGIN:VCALENDAR
VERSION:2.0
PRODID:-//wp-events-plugin.com//7.2.3.1//EN
TZID:Europe/Zurich
X-WR-TIMEZONE:Europe/Zurich
BEGIN:VEVENT
UID:21@qkk6.ch
DTSTART;TZID=Europe/Zurich:20180416T200000
DTEND;TZID=Europe/Zurich:20180416T211500
DTSTAMP:20180205T160935Z
URL:https://www.qkk6.ch/events/2018/04/16/herzliche-einladung-zum-einmalig
 en-filmabend-mit-karin-weissberg/
SUMMARY:Herzliche Einladung zum einmaligen Filmabend mit Karin Weissberg
DESCRIPTION:Der Film "safty last" stammt aus dem Jahre 1923 und dauert 73 M
 inuten.\n\nHarold Lloyd spielt Harold\, den Jungen vom Lande\, der in der 
 grossen Stadt sein Glück machen will. Zurück bleibt das Mädchen Mildred
 \, das er durch Macht und Reichtum zu beeindrucken versucht.\n\nFreier Ein
 tritt\, Kollekte\n\n&nbsp\;
ATTACH;FMTTYPE=image/jpeg:https://www.qkk6.ch/wp-content/uploads/Harold-Ll
 oyd-Safety-last.jpg
CATEGORIES:Konzert
LOCATION:Theater Rigiblick\, Germaniastrasse 99\, Zürich\, 8044\, Schweiz
GEO:47.388274;8.553456
X-APPLE-STRUCTURED-LOCATION;VALUE=URI;X-ADDRESS=Germaniastrasse 99\, Züric
 h\, 8044\, Schweiz;X-APPLE-RADIUS=100;X-TITLE=Theater Rigiblick:geo:47.388
 274,8.553456
END:VEVENT
BEGIN:VTIMEZONE
TZID:Europe/Zurich
X-LIC-LOCATION:Europe/Zurich
BEGIN:DAYLIGHT
DTSTART:20180325T030000
TZOFFSETFROM:+0100
TZOFFSETTO:+0200
TZNAME:CEST
END:DAYLIGHT
END:VTIMEZONE
END:VCALENDAR