BEGIN:VCALENDAR
VERSION:2.0
PRODID:-//wp-events-plugin.com//7.2.3.1//EN
TZID:Europe/Zurich
X-WR-TIMEZONE:Europe/Zurich
BEGIN:VEVENT
UID:18@qkk6.ch
DTSTART;TZID=Europe/Zurich:20180311T180000
DTEND;TZID=Europe/Zurich:20180311T180000
DTSTAMP:20180116T191025Z
URL:https://www.qkk6.ch/events/2018/03/11/aghate-blues/
SUMMARY:AGHATE BLUES
DESCRIPTION:Marianne Racine voc\, p\n\nHansueli Tischhauser git\, voc\n\nAu
 ch wenn's draussen schon richtig märzellert: Racine bleibt den blauen Tö
 nen verfallen\, hochoffiziell\; angesteckt und bezirzt vom legendären Zü
 rcher Doktor Tischhauser. Graad uus - nothing but the Bluus!\n\nNach dem K
 onzert sind alle zu einem Apéro eingeladen.\n\n&nbsp\;\nInfos und Tickets
 \nFreier Eintritt\, Kollekte
ATTACH;FMTTYPE=image/jpeg:https://www.qkk6.ch/wp-content/uploads/Marre-Han
 sueli1.jpg
CATEGORIES:Konzert
LOCATION:Röslischüür\, Röslistrasse 9\, Zürich\, 8006\, Schweiz
GEO:47.388508;8.541154
X-APPLE-STRUCTURED-LOCATION;VALUE=URI;X-ADDRESS=Röslistrasse 9\, Zürich\,
  8006\, Schweiz;X-APPLE-RADIUS=100;X-TITLE=Röslischüür:geo:47.388508,8.
 541154
END:VEVENT
BEGIN:VTIMEZONE
TZID:Europe/Zurich
X-LIC-LOCATION:Europe/Zurich
BEGIN:STANDARD
DTSTART:20171029T020000
TZOFFSETFROM:+0200
TZOFFSETTO:+0100
TZNAME:CET
END:STANDARD
END:VTIMEZONE
END:VCALENDAR