BEGIN:VCALENDAR
VERSION:2.0
PRODID:-//wp-events-plugin.com//7.2.3.1//EN
TZID:Europe/Zurich
X-WR-TIMEZONE:Europe/Zurich
BEGIN:VEVENT
UID:7@qkk6.ch
DTSTART;TZID=Europe/Zurich:20180310T200000
DTEND;TZID=Europe/Zurich:20180310T200000
DTSTAMP:20180116T183232Z
URL:https://www.qkk6.ch/events/2018/03/10/markus-schoenholzer-und-robi-rue
 disueli/
SUMMARY:Konzertlesung in der Röslischüür
DESCRIPTION:&nbsp\;\n\nEine Komposition aus Lesung und Musik lässt Raum un
 d gibt Zeit\, um die Gedichte von Wolfram Malte-Fues und Elisabeth Wandele
 r-Deck im Wechselspiel der Lesepassagen und mit der Musik der beiden Mitgl
 ieder des Duo Krak\, Margrit Schenker und Valentin Viecellio hörend zu er
 fahren.\n\nApéro offeriert von der Quartier-Kultur Kreis 6.\nInfos und Ti
 ckets\nFreier Eintritt\, Kollekte
ATTACH;FMTTYPE=image/jpeg:https://www.qkk6.ch/wp-content/uploads/KRAK_col.
 jpg
CATEGORIES:Konzert,Lesung
LOCATION:Röslischüür\, Röslistrasse 9\, Zürich\, 8006\, Schweiz
GEO:47.388508;8.541154
X-APPLE-STRUCTURED-LOCATION;VALUE=URI;X-ADDRESS=Röslistrasse 9\, Zürich\,
  8006\, Schweiz;X-APPLE-RADIUS=100;X-TITLE=Röslischüür:geo:47.388508,8.
 541154
END:VEVENT
BEGIN:VTIMEZONE
TZID:Europe/Zurich
X-LIC-LOCATION:Europe/Zurich
BEGIN:STANDARD
DTSTART:20171029T020000
TZOFFSETFROM:+0200
TZOFFSETTO:+0100
TZNAME:CET
END:STANDARD
END:VTIMEZONE
END:VCALENDAR