BEGIN:VCALENDAR
VERSION:2.0
PRODID:-//wp-events-plugin.com//7.2.3.1//EN
TZID:Europe/Zurich
X-WR-TIMEZONE:Europe/Zurich
BEGIN:VEVENT
UID:14@qkk6.ch
DTSTART;TZID=Europe/Zurich:20180309T200000
DTEND;TZID=Europe/Zurich:20180309T200000
DTSTAMP:20180116T183123Z
URL:https://www.qkk6.ch/events/2018/03/09/heinz-wegmann-und-thierry-kuster
 /
SUMMARY:Heinz Wegmann und Thierry Kuster
DESCRIPTION:"Sag mir wo die Blumen sind"\n\nMusikalische Lesung in der Rös
 lischüür\n\nApéro offeriert von der Quartierkultur Kreis 6.\nInfos und 
 Tickets\nFreier Eintritt\, Kollekte
CATEGORIES:Konzert,Lesung
LOCATION:Röslischüür\, Röslistrasse 9\, Zürich\, 8006\, Schweiz
GEO:47.388508;8.541154
X-APPLE-STRUCTURED-LOCATION;VALUE=URI;X-ADDRESS=Röslistrasse 9\, Zürich\,
  8006\, Schweiz;X-APPLE-RADIUS=100;X-TITLE=Röslischüür:geo:47.388508,8.
 541154
END:VEVENT
BEGIN:VTIMEZONE
TZID:Europe/Zurich
X-LIC-LOCATION:Europe/Zurich
BEGIN:STANDARD
DTSTART:20171029T020000
TZOFFSETFROM:+0200
TZOFFSETTO:+0100
TZNAME:CET
END:STANDARD
END:VTIMEZONE
END:VCALENDAR