BEGIN:VCALENDAR
VERSION:2.0
PRODID:-//wp-events-plugin.com//7.2.3.1//EN
TZID:Europe/Zurich
X-WR-TIMEZONE:Europe/Zurich
BEGIN:VEVENT
UID:12@qkk6.ch
DTSTART;TZID=Europe/Zurich:20180226T200000
DTEND;TZID=Europe/Zurich:20180226T200000
DTSTAMP:20171212T103240Z
URL:https://www.qkk6.ch/events/2018/02/26/balladen-im-theater-rigiblick-ni
 xe-bilsefuss-und-der-feuerreiter/
SUMMARY:Balladen im Theater Rigiblick Nixe Bilsefuss und der Feuerreiter
DESCRIPTION:Eine Koproduktion von Quartier-Kultur Kreis 6 und Theater Rigib
 lick\n\nNixe Bilsefuss und der Feuerreiter Mörike\, Goethe\, Hugo Wolf\n\
 nmit Hanna Scheuring\, Daniel Rohr\, Ruben Drole\, Simone Keller\n&nbsp\;\
 nEintritt Fr. 28.--/23.--/15.—\n\nReservation: 044 361 83 38 oder ticket
 s@theater-rigiblick.ch
CATEGORIES:Konzert,Lesung
LOCATION:Theater Rigiblick\, Germaniastrasse 99\, Zürich\, 8044\, Schweiz
GEO:47.388274;8.553456
X-APPLE-STRUCTURED-LOCATION;VALUE=URI;X-ADDRESS=Germaniastrasse 99\, Züric
 h\, 8044\, Schweiz;X-APPLE-RADIUS=100;X-TITLE=Theater Rigiblick:geo:47.388
 274,8.553456
END:VEVENT
BEGIN:VTIMEZONE
TZID:Europe/Zurich
X-LIC-LOCATION:Europe/Zurich
BEGIN:STANDARD
DTSTART:20171029T020000
TZOFFSETFROM:+0200
TZOFFSETTO:+0100
TZNAME:CET
END:STANDARD
END:VTIMEZONE
END:VCALENDAR