BEGIN:VCALENDAR
VERSION:2.0
PRODID:-//wp-events-plugin.com//7.2.3.1//EN
TZID:Europe/Zurich
X-WR-TIMEZONE:Europe/Zurich
BEGIN:VEVENT
UID:9@qkk6.ch
DTSTART;TZID=Europe/Zurich:20180211T180000
DTEND;TZID=Europe/Zurich:20180211T180000
DTSTAMP:20171207T192914Z
URL:https://www.qkk6.ch/events/2018/02/11/boogie-woogie-blues-swing-konzer
 t/
SUMMARY:Boogie Woogie\, Blues & Swing Konzert
DESCRIPTION:Konzert auf zwei Flügel mit Chris Conz und Dave Ruosch\n\nEin 
 Tète-a-Tète von zwei Swiss Jazz Award Gewinnern
ATTACH;FMTTYPE=image/jpeg:https://www.qkk6.ch/wp-content/uploads/boogie-wo
 ogie-blues-und-jazz-februar-2018.jpg
CATEGORIES:Konzert
LOCATION:Theater Rigiblick\, Germaniastrasse 99\, Zürich\, 8044\, Schweiz
GEO:47.388274;8.553456
X-APPLE-STRUCTURED-LOCATION;VALUE=URI;X-ADDRESS=Germaniastrasse 99\, Züric
 h\, 8044\, Schweiz;X-APPLE-RADIUS=100;X-TITLE=Theater Rigiblick:geo:47.388
 274,8.553456
END:VEVENT
BEGIN:VTIMEZONE
TZID:Europe/Zurich
X-LIC-LOCATION:Europe/Zurich
BEGIN:STANDARD
DTSTART:20171029T020000
TZOFFSETFROM:+0200
TZOFFSETTO:+0100
TZNAME:CET
END:STANDARD
END:VTIMEZONE
END:VCALENDAR