BEGIN:VCALENDAR
VERSION:2.0
PRODID:-//wp-events-plugin.com//7.2.3.1//EN
TZID:Europe/Zurich
X-WR-TIMEZONE:Europe/Zurich
BEGIN:VEVENT
UID:8@qkk6.ch
DTSTART;TZID=Europe/Zurich:20180129T200000
DTEND;TZID=Europe/Zurich:20180129T200000
DTSTAMP:20171123T153926Z
URL:https://www.qkk6.ch/events/2018/01/29/balladen-im-theater-rigiblick-b-
 b-und-die-balladen/
SUMMARY:Balladen im Theater Rigiblick: B.B. und die Balladen
DESCRIPTION:Eine Koproduktion der QKK6 und dem Theaeter Rigiblick\n\nB.B. u
 nd die Ballade Brecht / Eisler / Dessau / Weill mit Udo Samel\, Daniel Fue
 ter\nInfos und Tickets\nhttps://www.theater-rigiblick.ch/spielplan/projekt
 /balladen-im-rigiblick-b-b-und-die-ballade-udo-samel-rezitation-daniel-fue
 ter-klavier
ATTACH;FMTTYPE=image/jpeg:https://www.qkk6.ch/wp-content/uploads/bertold-b
 recht.jpg
CATEGORIES:Konzert,Lesung
LOCATION:Theater Rigiblick\, Germaniastrasse 99\, Zürich\, 8044\, Schweiz
GEO:47.388274;8.553456
X-APPLE-STRUCTURED-LOCATION;VALUE=URI;X-ADDRESS=Germaniastrasse 99\, Züric
 h\, 8044\, Schweiz;X-APPLE-RADIUS=100;X-TITLE=Theater Rigiblick:geo:47.388
 274,8.553456
END:VEVENT
BEGIN:VTIMEZONE
TZID:Europe/Zurich
X-LIC-LOCATION:Europe/Zurich
BEGIN:STANDARD
DTSTART:20171029T020000
TZOFFSETFROM:+0200
TZOFFSETTO:+0100
TZNAME:CET
END:STANDARD
END:VTIMEZONE
END:VCALENDAR