BEGIN:VCALENDAR
VERSION:2.0
PRODID:-//wp-events-plugin.com//7.2.3.1//EN
TZID:Europe/Zurich
X-WR-TIMEZONE:Europe/Zurich
BEGIN:VEVENT
UID:13@qkk6.ch
DTSTART;TZID=Europe/Zurich:20180122T200000
DTEND;TZID=Europe/Zurich:20180122T200000
DTSTAMP:20180107T175438Z
URL:https://www.qkk6.ch/events/2018/01/22/markus-schoenholzer-und-robi-rue
 disueli-2/
SUMMARY:Markus Schönholzer und Robi Rüdisüli
DESCRIPTION:2 Musiker\, 16 Lieder und 81/2 Geschichten\n\nNiemand besingt d
 as menschiche Scheitern so heiter\, wie der Songwriter Markus Schönholzer
 . Über seinen Liedern hängt die Melancholie wie eine feine Nebeldecke\, 
 hinter der man die Sonne weiss.\n\nMarkus Schönholzer Songwriter\, Gitarr
 e\, Banjo und Gesang\n\nRobi Rüdisüli Handorgel und Wagnertuba\nInfos un
 d Tickets\nhttps://www.theater-rigiblick.ch/spielplan/projekt/schoenholzer
 -und-ruedisueli-2-musiker-16-lieder-und-8-1-2-geschichten
CATEGORIES:Konzert
LOCATION:Theater Rigiblick\, Germaniastrasse 99\, Zürich\, 8044\, Schweiz
GEO:47.388274;8.553456
X-APPLE-STRUCTURED-LOCATION;VALUE=URI;X-ADDRESS=Germaniastrasse 99\, Züric
 h\, 8044\, Schweiz;X-APPLE-RADIUS=100;X-TITLE=Theater Rigiblick:geo:47.388
 274,8.553456
END:VEVENT
BEGIN:VTIMEZONE
TZID:Europe/Zurich
X-LIC-LOCATION:Europe/Zurich
BEGIN:STANDARD
DTSTART:20171029T020000
TZOFFSETFROM:+0200
TZOFFSETTO:+0100
TZNAME:CET
END:STANDARD
END:VTIMEZONE
END:VCALENDAR