BEGIN:VCALENDAR
VERSION:2.0
PRODID:-//wp-events-plugin.com//7.2.3.1//EN
TZID:Europe/Zurich
X-WR-TIMEZONE:Europe/Zurich
BEGIN:VEVENT
UID:6@qkk6.ch
DTSTART;TZID=Europe/Zurich:20171218T200000
DTEND;TZID=Europe/Zurich:20171218T200000
DTSTAMP:20171123T153049Z
URL:https://www.qkk6.ch/events/2017/12/18/balladen-im-theater-rigiblick/
SUMMARY:Balladen im Theater Rigiblick
DESCRIPTION:Eine Koproduktion der QKK6 und dem Theater Rigiblick\n\n"Die We
 lt ist müde\, lass sie träumen"\n\nMelodramatische Pianoforte-Begleitung
  und Deklamation mit Peter Schweiger und Petra Runner\nInfos und Tickets\n
 https://www.theater-rigiblick.ch/spielplan/projekt/balladen-die-welt-ist-m
 uede-lass-sie-traeumen-der-4-balladenabend-im-rigiblick
ATTACH;FMTTYPE=image/jpeg:https://www.qkk6.ch/wp-content/uploads/balladen-
 die-welt-ist-muede-lass-sie-traeumen.jpg
CATEGORIES:Konzert,Lesung
LOCATION:Theater Rigiblick\, Germaniastrasse 99\, Zürich\, 8044\, Schweiz
GEO:47.388274;8.553456
X-APPLE-STRUCTURED-LOCATION;VALUE=URI;X-ADDRESS=Germaniastrasse 99\, Züric
 h\, 8044\, Schweiz;X-APPLE-RADIUS=100;X-TITLE=Theater Rigiblick:geo:47.388
 274,8.553456
END:VEVENT
BEGIN:VTIMEZONE
TZID:Europe/Zurich
X-LIC-LOCATION:Europe/Zurich
BEGIN:STANDARD
DTSTART:20171029T020000
TZOFFSETFROM:+0200
TZOFFSETTO:+0100
TZNAME:CET
END:STANDARD
END:VTIMEZONE
END:VCALENDAR