BEGIN:VCALENDAR
VERSION:2.0
PRODID:-//wp-events-plugin.com//7.2.3.1//EN
TZID:Europe/Zurich
X-WR-TIMEZONE:Europe/Zurich
BEGIN:VEVENT
UID:5@qkk6.ch
DTSTART;TZID=Europe/Zurich:20171211T200000
DTEND;TZID=Europe/Zurich:20171211T200000
DTSTAMP:20171123T152626Z
URL:https://www.qkk6.ch/events/2017/12/11/tuliaisia-vinter/
SUMMARY:TULIAISIA Vinter
DESCRIPTION:TULIAISIA - das ist Marianne Racine's &amp\; Vera Kappeler's Sc
 hwedenmusik-Kapelle.\n\nMarianne Racine: Gesang &amp\; Geschichten\n\nVera
  Kappeler: Harmonium\, Klavier &amp\; Gesang\nInfos und Tickets\nhttps://w
 ww.theater-rigiblick.ch/spielplan/projekt/tuliaisia-vinter-marianne-racine
 s-und-vera-kappelers-schwedenmusik-kappelle
ATTACH;FMTTYPE=image/jpeg:https://www.qkk6.ch/wp-content/uploads/Tuliaisia
 .jpg
CATEGORIES:Konzert
LOCATION:Theater Rigiblick\, Germaniastrasse 99\, Zürich\, 8044\, Schweiz
GEO:47.388274;8.553456
X-APPLE-STRUCTURED-LOCATION;VALUE=URI;X-ADDRESS=Germaniastrasse 99\, Züric
 h\, 8044\, Schweiz;X-APPLE-RADIUS=100;X-TITLE=Theater Rigiblick:geo:47.388
 274,8.553456
END:VEVENT
BEGIN:VTIMEZONE
TZID:Europe/Zurich
X-LIC-LOCATION:Europe/Zurich
BEGIN:STANDARD
DTSTART:20171029T020000
TZOFFSETFROM:+0200
TZOFFSETTO:+0100
TZNAME:CET
END:STANDARD
END:VTIMEZONE
END:VCALENDAR