BEGIN:VCALENDAR
VERSION:2.0
PRODID:-//wp-events-plugin.com//7.2.3.1//EN
TZID:Europe/Zurich
X-WR-TIMEZONE:Europe/Zurich
BEGIN:VEVENT
UID:4@qkk6.ch
DTSTART;TZID=Europe/Zurich:20171208T200000
DTEND;TZID=Europe/Zurich:20171208T200000
DTSTAMP:20241008T184155Z
URL:https://www.qkk6.ch/events/2017/12/08/guaguamole-und-der-paradiesgarte
 n/
SUMMARY:Guaguamole und der Paradiesgarten
DESCRIPTION:Franziska Lienert stellt ihr neues Buch «Guaguamole und der Pa
 radiesgarten» vor. Musik: Regula Julen\, Akkordeon.\n\nAnschliessend Apé
 ro von der Quartier Kultur offeriert.
CATEGORIES:Ausstellung,Konzert,Lesung
LOCATION:Röslischüür\, Röslistrasse 9\, Zürich\, 8006\, Schweiz
GEO:47.388508;8.541154
X-APPLE-STRUCTURED-LOCATION;VALUE=URI;X-ADDRESS=Röslistrasse 9\, Zürich\,
  8006\, Schweiz;X-APPLE-RADIUS=100;X-TITLE=Röslischüür:geo:47.388508,8.
 541154
END:VEVENT
BEGIN:VTIMEZONE
TZID:Europe/Zurich
X-LIC-LOCATION:Europe/Zurich
BEGIN:STANDARD
DTSTART:20171029T020000
TZOFFSETFROM:+0200
TZOFFSETTO:+0100
TZNAME:CET
END:STANDARD
END:VTIMEZONE
END:VCALENDAR