BEGIN:VCALENDAR
VERSION:2.0
PRODID:-//wp-events-plugin.com//7.2.3.1//EN
TZID:Europe/Zurich
X-WR-TIMEZONE:Europe/Zurich
BEGIN:VEVENT
UID:3@qkk6.ch
DTSTART;TZID=Europe/Zurich:20171203T110000
DTEND;TZID=Europe/Zurich:20171203T170000
DTSTAMP:20171123T151528Z
URL:https://www.qkk6.ch/events/2017/12/03/designweihnachtsmarkt-2017-sonnt
 ag/
SUMMARY:DesignWeihnachtsmarkt 2017 (Sonntag)
DESCRIPTION:Öffnungszeiten\nSamstag 14 - 19 Uhr\, Sonntag 11 - 17 Uhr\nAus
 stellerInnen\nSusanne Allenspach\,Beatrix Bernegger\, Julia und Leoni Hube
 r\, Marianne Krüsi\, Kuniko Mizuno\, Leena Pinomaa\, Atelier Santer\, Tom
 lulu\, Linda Bastian\, Fil Rouge\, Agnes Joshi-Meili\, Lumpazis\, Annette 
 zur Nieden\, Gabriele Reinhard\, Hanna Schneider\, Simselibim\, Christine 
 Ziegler
ATTACH;FMTTYPE=image/jpeg:https://www.qkk6.ch/wp-content/uploads/designwei
 hnachtsmarkt.jpg
CATEGORIES:Ausstellung,Markt
LOCATION:Röslischüür\, Röslistrasse 9\, Zürich\, 8006\, Schweiz
GEO:47.388508;8.541154
X-APPLE-STRUCTURED-LOCATION;VALUE=URI;X-ADDRESS=Röslistrasse 9\, Zürich\,
  8006\, Schweiz;X-APPLE-RADIUS=100;X-TITLE=Röslischüür:geo:47.388508,8.
 541154
END:VEVENT
BEGIN:VTIMEZONE
TZID:Europe/Zurich
X-LIC-LOCATION:Europe/Zurich
BEGIN:STANDARD
DTSTART:20171029T020000
TZOFFSETFROM:+0200
TZOFFSETTO:+0100
TZNAME:CET
END:STANDARD
END:VTIMEZONE
END:VCALENDAR