BEGIN:VCALENDAR
VERSION:2.0
PRODID:-//wp-events-plugin.com//7.2.3.1//EN
TZID:Europe/Zurich
X-WR-TIMEZONE:Europe/Zurich
BEGIN:VEVENT
UID:1@qkk6.ch
DTSTART;TZID=Europe/Zurich:20171128T200000
DTEND;TZID=Europe/Zurich:20171128T200000
DTSTAMP:20171123T151619Z
URL:https://www.qkk6.ch/events/2017/11/28/die-unvergesslichen-50er-jahre/
SUMMARY:Die unvergesslichen 50er Jahre
DESCRIPTION:Die 50er Jahre - erinnern sie sich noch? Die ersten eigenen Sch
 ritte oder schon die ersten Jeans? Das alte Dampfradio oder das neue Ferns
 ehgerät? Das kleine Einmaleins oder schon die erste grosse Liebe? Winneto
 u und Old Shatterhand oder Sputnik? Ich ghöre es Glöggli oder schon Rock
 'n'Roll? Oder ist alles bereits tiefste Vergangenheit und verklärte Nosta
 lgie? Wir lassen die 50er Jahre einen Abend lang wieder aufleben.\n\n 	Mit
  Rebecca &amp\; The Sophisticats\n 	Rebecca Spiteri voc &amp\; perc.\n 	Lu
 kas Gadola\, ts &amp\; ss\n 	Immanuel Witschi\, p\n 	Hans Peter Künzle\, 
 b\n 	Thomas Bernold\, dm\n 	Spezial Guest: Marco Caduff\, Reiseleiter\, Te
 xte\n\nwww.sophistocats.ch\nInfos und Tickets\nhttps://www.theater-rigibli
 ck.ch/spielplan/projekt/die-unvergesslichen-50er-jahre-rebecca-und-the-sop
 histocats
ATTACH;FMTTYPE=image/jpeg:https://www.qkk6.ch/wp-content/uploads/Sophistoc
 ats.jpg
CATEGORIES:Konzert,Lesung
LOCATION:Theater Rigiblick\, Germaniastrasse 99\, Zürich\, 8044\, Schweiz
GEO:47.388274;8.553456
X-APPLE-STRUCTURED-LOCATION;VALUE=URI;X-ADDRESS=Germaniastrasse 99\, Züric
 h\, 8044\, Schweiz;X-APPLE-RADIUS=100;X-TITLE=Theater Rigiblick:geo:47.388
 274,8.553456
END:VEVENT
BEGIN:VTIMEZONE
TZID:Europe/Zurich
X-LIC-LOCATION:Europe/Zurich
BEGIN:STANDARD
DTSTART:20171029T020000
TZOFFSETFROM:+0200
TZOFFSETTO:+0100
TZNAME:CET
END:STANDARD
END:VTIMEZONE
END:VCALENDAR